BEGIN:VCALENDAR
VERSION:2.0
PRODID:-//Squarespace Inc/Squarespace 6//v6//EN
BEGIN:VEVENT
UID:5869c9e4e6f2e167ac0d9edf@squarespace.com
DTSTAMP:20170102T033430Z
DTSTART:20170903T200000Z
DTEND:20170929T090000Z
SUMMARY:Spring into September!!
END:VEVENT
END:VCALENDAR
