BEGIN:VCALENDAR
VERSION:2.0
PRODID:-//Squarespace Inc/Squarespace 6//v6//EN
BEGIN:VEVENT
UID:5869c6e61b631bf41912a354@squarespace.com
DTSTAMP:20170102T032242Z
DTSTART:20170702T200000Z
DTEND:20170728T090000Z
SUMMARY:Journey on through July
END:VEVENT
END:VCALENDAR
