BEGIN:VCALENDAR
VERSION:2.0
PRODID:-//Squarespace Inc/Squarespace 6//v6//EN
BEGIN:VEVENT
UID:5869c50a1b631bf419128e00@squarespace.com
DTSTAMP:20170102T031402Z
DTSTART:20170507T200000Z
DTEND:20170602T090000Z
SUMMARY:May is for Motivation
END:VEVENT
END:VCALENDAR
