BEGIN:VCALENDAR
VERSION:2.0
PRODID:-//Squarespace Inc/Squarespace 6//v6//EN
BEGIN:VEVENT
UID:5869c2629f7456495145d514@squarespace.com
DTSTAMP:20170102T030314Z
DTSTART:20170305T190000Z
DTEND:20170331T080000Z
SUMMARY:Motoring through March
END:VEVENT
END:VCALENDAR
