BEGIN:VCALENDAR
VERSION:2.0
PRODID:-//Squarespace Inc/Squarespace 6//v6//EN
BEGIN:VEVENT
UID:5869bfdcebbd1adda9b6903c@squarespace.com
DTSTAMP:20170102T025203Z
DTSTART:20170206T070000Z
DTEND:20170303T080000Z
SUMMARY:Fighting Fit in February
END:VEVENT
END:VCALENDAR
