BEGIN:VCALENDAR
VERSION:2.0
PRODID:-//Squarespace Inc/Squarespace 6//v6//EN
BEGIN:VEVENT
UID:5869cabb197aea528346c1b0@squarespace.com
DTSTAMP:20170102T033911Z
DTSTART:20171001T190000Z
DTEND:20171027T080000Z
SUMMARY:Outdoors in October
END:VEVENT
END:VCALENDAR
