BEGIN:VCALENDAR
VERSION:2.0
PRODID:-//Squarespace Inc/Squarespace 6//v6//EN
BEGIN:VEVENT
UID:5869bda129687f664803d5b0@squarespace.com
DTSTAMP:20170102T030332Z
DTSTART:20170109T070000Z
DTEND:20170203T080000Z
SUMMARY:Jump in to January
END:VEVENT
END:VCALENDAR
