BEGIN:VCALENDAR
VERSION:2.0
PRODID:-//Squarespace Inc/Squarespace 6//v6//EN
BEGIN:VEVENT
UID:5869cbea20099ecdf7a33956@squarespace.com
DTSTAMP:20170102T034659Z
DTSTART:20171126T190000Z
DTEND:20171222T080000Z
SUMMARY:Dash to December!!
END:VEVENT
END:VCALENDAR
