BEGIN:VCALENDAR
VERSION:2.0
PRODID:-//Squarespace Inc/Squarespace 6//v6//EN
BEGIN:VEVENT
UID:5869c3333e00be540c4f9009@squarespace.com
DTSTAMP:20170102T031132Z
DTSTART:20170402T200000Z
DTEND:20170427T210000Z
SUMMARY:Amped up in April
END:VEVENT
END:VCALENDAR
