BEGIN:VCALENDAR
VERSION:2.0
PRODID:-//Squarespace Inc/Squarespace 6//v6//EN
BEGIN:VEVENT
UID:5869c8d3bebafb6e8b1b2c2f@squarespace.com
DTSTAMP:20170102T033525Z
DTSTART:20170730T200000Z
DTEND:20170825T090000Z
SUMMARY:Active in August
END:VEVENT
END:VCALENDAR
