BEGIN:VCALENDAR
VERSION:2.0
PRODID:-//Squarespace Inc/Squarespace 6//v6//EN
BEGIN:VEVENT
UID:5688b3cfcbced60d3b3a9057@squarespace.com
DTSTAMP:20160103T062849Z
DTSTART:20160918T200000Z
DTEND:20161014T080000Z
SUMMARY:Smell that September Sweat!!
END:VEVENT
END:VCALENDAR
