BEGIN:VCALENDAR
VERSION:2.0
PRODID:-//Squarespace Inc/Squarespace 6//v6//EN
BEGIN:VEVENT
UID:5688b3a2cbced60d3b3a8f6f@squarespace.com
DTSTAMP:20160103T065204Z
DTSTART:20160821T200000Z
DTEND:20160916T090000Z
SUMMARY:All Aboard the August Train
END:VEVENT
END:VCALENDAR
