BEGIN:VCALENDAR
VERSION:2.0
PRODID:-//Squarespace Inc/Squarespace 6//v6//EN
BEGIN:VEVENT
UID:5688b37bcbced60d3b3a8ea3@squarespace.com
DTSTAMP:20160103T062832Z
DTSTART:20160814T200000Z
DTEND:20160819T090000Z
SUMMARY:Hot August Training - One Intense Week
END:VEVENT
END:VCALENDAR
