BEGIN:VCALENDAR
VERSION:2.0
PRODID:-//Squarespace Inc/Squarespace 6//v6//EN
BEGIN:VEVENT
UID:5688b31d0e4c11c9349ce6e6@squarespace.com
DTSTAMP:20160103T054415Z
DTSTART:20160613T200000Z
DTEND:20160708T090000Z
SUMMARY:Jump into June
END:VEVENT
END:VCALENDAR
