BEGIN:VCALENDAR
VERSION:2.0
PRODID:-//Squarespace Inc/Squarespace 6//v6//EN
BEGIN:VEVENT
UID:5688a9f1bfe8732981fea6b9@squarespace.com
DTSTAMP:20160103T053446Z
DTSTART:20160411T080000Z
DTEND:20160506T090000Z
SUMMARY:'Allo April and Autumn
END:VEVENT
END:VCALENDAR
