BEGIN:VCALENDAR
VERSION:2.0
PRODID:-//Squarespace Inc/Squarespace 6//v6//EN
BEGIN:VEVENT
UID:5688ab1257eb8dfaac68d923@squarespace.com
DTSTAMP:20160103T053410Z
DTSTART:20160207T190000Z
DTEND:20160304T080000Z
SUMMARY:February Fitness Fiesta!
END:VEVENT
END:VCALENDAR
