BEGIN:VCALENDAR
VERSION:2.0
PRODID:-//Squarespace Inc/Squarespace 6//v6//EN
BEGIN:VEVENT
UID:5688b996a2bab852737ac6a9@squarespace.com
DTSTAMP:20160103T062948Z
DTSTART:20161218T190000Z
DTEND:20161223T080000Z
SUMMARY:Dash to the line in December - One Intense Week
END:VEVENT
END:VCALENDAR
