BEGIN:VCALENDAR
VERSION:2.0
PRODID:-//Squarespace Inc/Squarespace 6//v6//EN
BEGIN:VEVENT
UID:5688b3fecbced60d3b3a9152@squarespace.com
DTSTAMP:20160103T062927Z
DTSTART:20161120T190000Z
DTEND:20161216T080000Z
SUMMARY:Nearly there November!!
END:VEVENT
END:VCALENDAR
