BEGIN:VCALENDAR
VERSION:2.0
PRODID:-//Squarespace Inc/Squarespace 6//v6//EN
BEGIN:VEVENT
UID:5688b3eacbced60d3b3a90ef@squarespace.com
DTSTAMP:20160103T062909Z
DTSTART:20161023T190000Z
DTEND:20161118T080000Z
SUMMARY:Outdoors in October
END:VEVENT
END:VCALENDAR
