BEGIN:VCALENDAR
VERSION:2.0
PRODID:-//Squarespace Inc/Squarespace 6//v6//EN
BEGIN:VEVENT
UID:5688a9fdbfe8732981fea6f2@squarespace.com
DTSTAMP:20160103T053358Z
DTSTART:20160110T190000Z
DTEND:20160205T080000Z
SUMMARY:Jog into January 
END:VEVENT
END:VCALENDAR
