BEGIN:VCALENDAR
VERSION:2.0
PRODID:-//Squarespace Inc/Squarespace 6//v6//EN
BEGIN:VEVENT
UID:55b5a59ae4b0eeee5d67a919@squarespace.com
DTSTAMP:20150727T033508Z
DTSTART:20150927T200000Z
DTEND:20151023T080000Z
SUMMARY:Sweat through September
END:VEVENT
END:VCALENDAR
