BEGIN:VCALENDAR
VERSION:2.0
PRODID:-//Squarespace Inc/Squarespace 6//v6//EN
BEGIN:VEVENT
UID:55b5a41ce4b0cb0617cc98a5@squarespace.com
DTSTAMP:20150727T032616Z
DTSTART:20150712T200000Z
DTEND:20150807T090000Z
SUMMARY:Jog on through July
END:VEVENT
END:VCALENDAR
