BEGIN:VCALENDAR
VERSION:2.0
PRODID:-//Squarespace Inc/Squarespace 6//v6//EN
BEGIN:VEVENT
UID:55b5a4a6e4b057b5944ebd83@squarespace.com
DTSTAMP:20150727T032910Z
DTSTART:20150823T200000Z
DTEND:20150918T090000Z
SUMMARY:Alright August...lets do this!!
END:VEVENT
END:VCALENDAR
