BEGIN:VCALENDAR
VERSION:2.0
PRODID:-//Squarespace Inc/Squarespace 6//v6//EN
BEGIN:VEVENT
UID:55062051e4b030d1c7fe7fe3@squarespace.com
DTSTAMP:20150316T002051Z
DTSTART:20150614T200000Z
DTEND:20150710T090000Z
SUMMARY:Jump into June
END:VEVENT
END:VCALENDAR
