BEGIN:VCALENDAR
VERSION:2.0
PRODID:-//Squarespace Inc/Squarespace 6//v6//EN
BEGIN:VEVENT
UID:55061a7be4b030d1c7fe651f@squarespace.com
DTSTAMP:20150316T001310Z
DTSTART:20150510T200000Z
DTEND:20150605T090000Z
SUMMARY:Movin' into May 
END:VEVENT
END:VCALENDAR
