BEGIN:VCALENDAR
VERSION:2.0
PRODID:-//Squarespace Inc/Squarespace 6//v6//EN
BEGIN:VEVENT
UID:55060f70e4b06ae7c74a5613@squarespace.com
DTSTAMP:20150315T232226Z
DTSTART:20150412T200000Z
DTEND:20150508T090000Z
SUMMARY:'Allo April and Autumn
END:VEVENT
END:VCALENDAR
