BEGIN:VCALENDAR
VERSION:2.0
PRODID:-//Squarespace Inc/Squarespace 6//v6//EN
BEGIN:VEVENT
UID:54b4ba3be4b0197d5e91fd80@squarespace.com
DTSTAMP:20150113T062841Z
DTSTART:20150208T190000Z
DTEND:20150306T080000Z
SUMMARY:February Freshness!
END:VEVENT
END:VCALENDAR
